BEGIN:VCALENDAR
VERSION:2.0
PRODID:-//Squarespace Inc/Squarespace 6//v6//EN
BEGIN:VEVENT
UID:5e66cd4f2293d941d085e3d2@squarespace.com
DTSTAMP:20200310T235334Z
DTSTART:20200322T080000Z
DTEND:20200322T090000Z
SUMMARY:Festival of Small Halls
GEO:-37.295525;144.24492
LOCATION:Glenlyon Hall\, 32 Barkly Street\, Glenlyon\, VIC\, 3461\, Austral
 ia
END:VEVENT
END:VCALENDAR
